BEGIN:VCALENDAR
VERSION:2.0
PRODID:-//CCGV - ECPv6.15.20//NONSGML v1.0//EN
CALSCALE:GREGORIAN
METHOD:PUBLISH
X-ORIGINAL-URL:https://countryclubofgreenvalley.org
X-WR-CALDESC:Events for CCGV
REFRESH-INTERVAL;VALUE=DURATION:PT1H
X-Robots-Tag:noindex
X-PUBLISHED-TTL:PT1H
BEGIN:VTIMEZONE
TZID:America/Phoenix
BEGIN:STANDARD
TZOFFSETFROM:-0700
TZOFFSETTO:-0700
TZNAME:MST
DTSTART:20240101T000000
END:STANDARD
END:VTIMEZONE
BEGIN:VEVENT
DTSTART;TZID=America/Phoenix:20251011T150000
DTEND;TZID=America/Phoenix:20251011T150000
DTSTAMP:20260422T044536
CREATED:20250806T160830Z
LAST-MODIFIED:20250806T160830Z
UID:10000076-1760194800-1760194800@countryclubofgreenvalley.org
SUMMARY:Oktoberfest
DESCRIPTION:Dinner at 5 PM
URL:https://countryclubofgreenvalley.org/event/oktoberfest/
END:VEVENT
BEGIN:VEVENT
DTSTART;TZID=America/Phoenix:20251015T090000
DTEND;TZID=America/Phoenix:20251015T090000
DTSTAMP:20260422T044536
CREATED:20250806T161415Z
LAST-MODIFIED:20250806T161415Z
UID:10000077-1760518800-1760518800@countryclubofgreenvalley.org
SUMMARY:Coffee & Speaker
DESCRIPTION:
URL:https://countryclubofgreenvalley.org/event/coffee-speaker-5/
END:VEVENT
BEGIN:VEVENT
DTSTART;TZID=America/Phoenix:20251022T090000
DTEND;TZID=America/Phoenix:20251022T090000
DTSTAMP:20260422T044536
CREATED:20250806T161449Z
LAST-MODIFIED:20250806T161449Z
UID:10000078-1761123600-1761123600@countryclubofgreenvalley.org
SUMMARY:Book Club
DESCRIPTION:
URL:https://countryclubofgreenvalley.org/event/book-club-8/
END:VEVENT
BEGIN:VEVENT
DTSTART;VALUE=DATE:20251024
DTEND;VALUE=DATE:20251025
DTSTAMP:20260422T044536
CREATED:20250806T161525Z
LAST-MODIFIED:20250806T165456Z
UID:10000079-1761264000-1761350399@countryclubofgreenvalley.org
SUMMARY:Twilight Golf
DESCRIPTION:3 PM tee time (if course is open)
URL:https://countryclubofgreenvalley.org/event/twilight-golf/
END:VEVENT
BEGIN:VEVENT
DTSTART;VALUE=DATE:20251025
DTEND;VALUE=DATE:20251026
DTSTAMP:20260422T044536
CREATED:20250806T165521Z
LAST-MODIFIED:20250806T165521Z
UID:10000080-1761350400-1761436799@countryclubofgreenvalley.org
SUMMARY:Golf Cart Trick or Treating
DESCRIPTION:
URL:https://countryclubofgreenvalley.org/event/golf-cart-trick-or-treating/
END:VEVENT
BEGIN:VEVENT
DTSTART;VALUE=DATE:20251030
DTEND;VALUE=DATE:20251031
DTSTAMP:20260422T044536
CREATED:20250806T165600Z
LAST-MODIFIED:20250806T165600Z
UID:10000081-1761782400-1761868799@countryclubofgreenvalley.org
SUMMARY:WGA Opening Mixer/Luncheon
DESCRIPTION:
URL:https://countryclubofgreenvalley.org/event/wga-opening-mixer-luncheon/
END:VEVENT
END:VCALENDAR